Package: karyoploteR Version: 1.35.3 Command: /Library/Frameworks/R.framework/Resources/bin/R CMD INSTALL karyoploteR StartedAt: 2025-10-22 15:22:40 -0400 (Wed, 22 Oct 2025) EndedAt: 2025-10-22 15:23:02 -0400 (Wed, 22 Oct 2025) EllapsedTime: 22.8 seconds RetCode: 0 Status: OK