Package: karyoploteR Version: 1.35.3 Command: /Library/Frameworks/R.framework/Resources/bin/R CMD build --keep-empty-dirs --no-resave-data karyoploteR StartedAt: 2025-10-21 16:50:56 -0400 (Tue, 21 Oct 2025) EndedAt: 2025-10-21 16:51:33 -0400 (Tue, 21 Oct 2025) EllapsedTime: 36.4 seconds RetCode: 0 Status: OK PackageFile: karyoploteR_1.35.3.tar.gz PackageFileSize: 2.593 MiB