Package: karyoploteR Version: 1.35.3 Command: rm -rf karyoploteR.buildbin-libdir && mkdir karyoploteR.buildbin-libdir && /Users/biocbuild/BBS/utils/build-universal.sh karyoploteR_1.35.3.tar.gz /Library/Frameworks/R.framework/Resources/bin/R karyoploteR.buildbin-libdir StartedAt: 2025-10-22 23:05:07 -0400 (Wed, 22 Oct 2025) EndedAt: 2025-10-22 23:05:31 -0400 (Wed, 22 Oct 2025) EllapsedTime: 24.5 seconds RetCode: 0 Status: OK PackageFile: karyoploteR_1.35.3.tgz PackageFileSize: 2.48 MiB