Package: jazzPanda Version: 1.1.3 Command: /Library/Frameworks/R.framework/Resources/bin/R CMD INSTALL jazzPanda StartedAt: 2025-10-21 15:25:09 -0400 (Tue, 21 Oct 2025) EndedAt: 2025-10-21 15:25:52 -0400 (Tue, 21 Oct 2025) EllapsedTime: 43.1 seconds RetCode: 0 Status: OK