Package: jazzPanda Version: 1.1.3 Command: /Library/Frameworks/R.framework/Resources/bin/R CMD build --keep-empty-dirs --no-resave-data jazzPanda StartedAt: 2025-10-21 17:51:11 -0400 (Tue, 21 Oct 2025) EndedAt: 2025-10-21 17:56:08 -0400 (Tue, 21 Oct 2025) EllapsedTime: 297.1 seconds RetCode: 0 Status: OK PackageFile: jazzPanda_1.1.3.tar.gz PackageFileSize: 4.098 MiB