Package: jazzPanda Version: 1.1.1 Command: /Library/Frameworks/R.framework/Resources/bin/R CMD INSTALL jazzPanda StartedAt: 2025-10-06 15:14:06 -0400 (Mon, 06 Oct 2025) EndedAt: 2025-10-06 15:14:19 -0400 (Mon, 06 Oct 2025) EllapsedTime: 13.2 seconds RetCode: 0 Status: OK