Package: jazzPanda Version: 1.1.1 Command: /Library/Frameworks/R.framework/Resources/bin/R CMD build --keep-empty-dirs --no-resave-data jazzPanda StartedAt: 2025-10-06 16:50:04 -0400 (Mon, 06 Oct 2025) EndedAt: 2025-10-06 16:51:27 -0400 (Mon, 06 Oct 2025) EllapsedTime: 83.0 seconds RetCode: 0 Status: OK PackageFile: jazzPanda_1.1.1.tar.gz PackageFileSize: 4.498 MiB