Package: jazzPanda Version: 1.1.1 Command: rm -rf jazzPanda.buildbin-libdir && mkdir jazzPanda.buildbin-libdir && /Users/biocbuild/BBS/utils/build-universal.sh jazzPanda_1.1.1.tar.gz /Library/Frameworks/R.framework/Resources/bin/R jazzPanda.buildbin-libdir StartedAt: 2025-10-06 22:48:29 -0400 (Mon, 06 Oct 2025) EndedAt: 2025-10-06 22:48:44 -0400 (Mon, 06 Oct 2025) EllapsedTime: 14.3 seconds RetCode: 0 Status: OK PackageFile: jazzPanda_1.1.1.tgz PackageFileSize: 4.578 MiB