Package: iterativeBMAsurv Version: 1.67.0 Command: /home/biocbuild/bbs-3.22-bioc/R/bin/R CMD check --install=check:iterativeBMAsurv.install-out.txt --library=/home/biocbuild/bbs-3.22-bioc/R/site-library --timings iterativeBMAsurv_1.67.0.tar.gz StartedAt: 2025-10-07 01:04:58 -0400 (Tue, 07 Oct 2025) EndedAt: 2025-10-07 01:06:28 -0400 (Tue, 07 Oct 2025) EllapsedTime: 90.1 seconds RetCode: 0 Status: WARNINGS CheckDir: iterativeBMAsurv.Rcheck Warnings: 1