Package: iterativeBMAsurv Version: 1.69.0 Command: /home/biocbuild/bbs-3.23-bioc/R/bin/R CMD INSTALL iterativeBMAsurv StartedAt: 2025-10-31 15:13:13 -0400 (Fri, 31 Oct 2025) EndedAt: 2025-10-31 15:13:19 -0400 (Fri, 31 Oct 2025) EllapsedTime: 6.1 seconds RetCode: 0 Status: OK