Package: iterativeBMAsurv Version: 1.69.0 Command: /home/biocbuild/bbs-3.23-bioc/R/bin/R CMD check --install=check:iterativeBMAsurv.install-out.txt --library=/home/biocbuild/bbs-3.23-bioc/R/site-library --timings iterativeBMAsurv_1.69.0.tar.gz StartedAt: 2025-11-08 00:45:20 -0500 (Sat, 08 Nov 2025) EndedAt: 2025-11-08 00:46:45 -0500 (Sat, 08 Nov 2025) EllapsedTime: 85.1 seconds RetCode: 0 Status: WARNINGS CheckDir: iterativeBMAsurv.Rcheck Warnings: 1