Package: iterativeBMA Version: 1.69.0 Command: /home/biocbuild/bbs-3.23-bioc/R/bin/R CMD build --keep-empty-dirs --no-resave-data iterativeBMA StartedAt: 2025-10-31 18:27:06 -0400 (Fri, 31 Oct 2025) EndedAt: 2025-10-31 18:27:21 -0400 (Fri, 31 Oct 2025) EllapsedTime: 15.0 seconds RetCode: 0 Status: OK PackageFile: iterativeBMA_1.69.0.tar.gz PackageFileSize: 158.9 KiB