Package: isomiRs Version: 1.39.0 Command: /home/biocbuild/bbs-3.23-bioc/R/bin/R CMD INSTALL isomiRs StartedAt: 2025-11-20 15:33:49 -0500 (Thu, 20 Nov 2025) EndedAt: 2025-11-20 15:34:33 -0500 (Thu, 20 Nov 2025) EllapsedTime: 44.7 seconds RetCode: 0 Status: OK