Package: isomiRs Version: 1.39.0 Command: /home/biocbuild/bbs-3.23-bioc/R/bin/R CMD build --keep-empty-dirs --no-resave-data isomiRs StartedAt: 2025-11-20 18:17:02 -0500 (Thu, 20 Nov 2025) EndedAt: 2025-11-20 18:18:19 -0500 (Thu, 20 Nov 2025) EllapsedTime: 77.1 seconds RetCode: 0 Status: OK PackageFile: isomiRs_1.39.0.tar.gz PackageFileSize: 4.163 MiB