Package: isomiRs Version: 1.39.0 Command: rm -rf isomiRs.buildbin-libdir && mkdir isomiRs.buildbin-libdir && /Users/biocbuild/BBS/utils/build-universal.sh isomiRs_1.39.0.tar.gz /Library/Frameworks/R.framework/Resources/bin/R isomiRs.buildbin-libdir StartedAt: 2025-11-22 01:40:19 -0500 (Sat, 22 Nov 2025) EndedAt: 2025-11-22 01:41:28 -0500 (Sat, 22 Nov 2025) EllapsedTime: 68.7 seconds RetCode: 0 Status: OK PackageFile: isomiRs_1.39.0.tgz PackageFileSize: 2.184 MiB