Package: isomiRs Version: 1.37.1 Command: /Library/Frameworks/R.framework/Resources/bin/R CMD build --keep-empty-dirs --no-resave-data isomiRs StartedAt: 2025-10-26 16:58:24 -0400 (Sun, 26 Oct 2025) EndedAt: 2025-10-26 16:58:55 -0400 (Sun, 26 Oct 2025) EllapsedTime: 30.3 seconds RetCode: 0 Status: OK PackageFile: isomiRs_1.37.1.tar.gz PackageFileSize: 4.261 MiB