Package: isomiRs Version: 1.37.1 Command: rm -rf isomiRs.buildbin-libdir && mkdir isomiRs.buildbin-libdir && /Users/biocbuild/BBS/utils/build-universal.sh isomiRs_1.37.1.tar.gz /Library/Frameworks/R.framework/Resources/bin/R isomiRs.buildbin-libdir StartedAt: 2025-10-26 22:39:19 -0400 (Sun, 26 Oct 2025) EndedAt: 2025-10-26 22:39:39 -0400 (Sun, 26 Oct 2025) EllapsedTime: 19.5 seconds RetCode: 0 Status: OK PackageFile: isomiRs_1.37.1.tgz PackageFileSize: 2.186 MiB