Package: isobar Version: 1.57.0 Command: /home/biocbuild/bbs-3.23-bioc/R/bin/R CMD INSTALL isobar StartedAt: 2025-11-07 15:27:05 -0500 (Fri, 07 Nov 2025) EndedAt: 2025-11-07 15:27:35 -0500 (Fri, 07 Nov 2025) EllapsedTime: 30.2 seconds RetCode: 0 Status: OK