Package: isobar Version: 1.57.0 Command: /home/biocbuild/bbs-3.23-bioc/R/bin/R CMD build --keep-empty-dirs --no-resave-data isobar StartedAt: 2025-11-07 18:13:23 -0500 (Fri, 07 Nov 2025) EndedAt: 2025-11-07 18:14:34 -0500 (Fri, 07 Nov 2025) EllapsedTime: 71.1 seconds RetCode: 0 Status: OK PackageFile: isobar_1.57.0.tar.gz PackageFileSize: 2.812 MiB