Package: isobar Version: 1.55.0 Command: /Library/Frameworks/R.framework/Resources/bin/R CMD INSTALL isobar StartedAt: 2025-10-07 15:24:15 -0400 (Tue, 07 Oct 2025) EndedAt: 2025-10-07 15:24:58 -0400 (Tue, 07 Oct 2025) EllapsedTime: 43.1 seconds RetCode: 0 Status: OK