Package: isobar Version: 1.55.0 Command: /Library/Frameworks/R.framework/Resources/bin/R CMD build --keep-empty-dirs --no-resave-data isobar StartedAt: 2025-10-07 17:36:22 -0400 (Tue, 07 Oct 2025) EndedAt: 2025-10-07 17:38:19 -0400 (Tue, 07 Oct 2025) EllapsedTime: 116.2 seconds RetCode: 0 Status: OK PackageFile: isobar_1.55.0.tar.gz PackageFileSize: 2.767 MiB