Package: isobar Version: 1.55.0 Command: rm -rf isobar.buildbin-libdir && mkdir isobar.buildbin-libdir && /Users/biocbuild/BBS/utils/build-universal.sh isobar_1.55.0.tar.gz /Library/Frameworks/R.framework/Resources/bin/R isobar.buildbin-libdir StartedAt: 2025-10-08 02:24:02 -0400 (Wed, 08 Oct 2025) EndedAt: 2025-10-08 02:24:50 -0400 (Wed, 08 Oct 2025) EllapsedTime: 47.7 seconds RetCode: 0 Status: OK PackageFile: isobar_1.55.0.tgz PackageFileSize: 3.891 MiB