Package: islify Version: 1.3.0 Command: /home/biocbuild/bbs-3.23-bioc/R/bin/R CMD INSTALL islify StartedAt: 2025-11-20 15:12:58 -0500 (Thu, 20 Nov 2025) EndedAt: 2025-11-20 15:13:09 -0500 (Thu, 20 Nov 2025) EllapsedTime: 11.2 seconds RetCode: 0 Status: OK