Package: islify Version: 1.1.1 Command: /Library/Frameworks/R.framework/Resources/bin/R CMD INSTALL islify StartedAt: 2025-10-13 15:17:28 -0400 (Mon, 13 Oct 2025) EndedAt: 2025-10-13 15:17:44 -0400 (Mon, 13 Oct 2025) EllapsedTime: 15.5 seconds RetCode: 0 Status: OK