Package: islify Version: 1.1.1 Command: rm -rf islify.buildbin-libdir && mkdir islify.buildbin-libdir && /Users/biocbuild/BBS/utils/build-universal.sh islify_1.1.1.tar.gz /Library/Frameworks/R.framework/Resources/bin/R islify.buildbin-libdir StartedAt: 2025-10-14 02:50:20 -0400 (Tue, 14 Oct 2025) EndedAt: 2025-10-14 02:50:40 -0400 (Tue, 14 Oct 2025) EllapsedTime: 20.4 seconds RetCode: 0 Status: OK PackageFile: islify_1.1.1.tgz PackageFileSize: 2.083 MiB