Package: islify Version: 1.1.1 Command: /Library/Frameworks/R.framework/Resources/bin/R CMD INSTALL islify StartedAt: 2025-09-28 15:09:31 -0400 (Sun, 28 Sep 2025) EndedAt: 2025-09-28 15:09:36 -0400 (Sun, 28 Sep 2025) EllapsedTime: 5.0 seconds RetCode: 0 Status: OK