Package: islify Version: 1.1.1 Maintainer: Jakob Theorell MaintainerEmail: jakob.theorell at ki.se git_url: https://git.bioconductor.org/packages/islify git_branch: devel git_last_commit: c295fbf git_last_commit_date: 2025-09-03 06:44:26 -0400 (Wed, 03 Sep 2025)