Package: iscream Version: 1.1.1 Command: /home/biocbuild/bbs-3.23-bioc/R/bin/R CMD INSTALL iscream StartedAt: 2025-11-05 15:17:49 -0500 (Wed, 05 Nov 2025) EndedAt: 2025-11-05 15:19:42 -0500 (Wed, 05 Nov 2025) EllapsedTime: 112.9 seconds RetCode: 0 Status: OK