Package: iscream Version: 1.1.1 Command: /home/biocbuild/bbs-3.23-bioc/R/bin/R CMD build --keep-empty-dirs --no-resave-data iscream StartedAt: 2025-11-05 18:17:22 -0500 (Wed, 05 Nov 2025) EndedAt: 2025-11-05 18:19:43 -0500 (Wed, 05 Nov 2025) EllapsedTime: 141.2 seconds RetCode: 0 Status: OK PackageFile: iscream_1.1.1.tar.gz PackageFileSize: 5.439 MiB