Package: iscream Version: 1.1.1 Maintainer: James Eapen MaintainerEmail: james.eapen at vai.org git_url: https://git.bioconductor.org/packages/iscream git_branch: devel git_last_commit: b1bda1c git_last_commit_date: 2025-10-29 14:17:07 -0400 (Wed, 29 Oct 2025)