Package: ipdDb Version: 1.27.0 Command: /Library/Frameworks/R.framework/Resources/bin/R CMD INSTALL ipdDb StartedAt: 2025-10-10 15:26:39 -0400 (Fri, 10 Oct 2025) EndedAt: 2025-10-10 15:27:00 -0400 (Fri, 10 Oct 2025) EllapsedTime: 21.5 seconds RetCode: 0 Status: OK