Package: ipdDb Version: 1.27.0 Command: /Library/Frameworks/R.framework/Resources/bin/R CMD build --keep-empty-dirs --no-resave-data ipdDb StartedAt: 2025-10-10 17:41:07 -0400 (Fri, 10 Oct 2025) EndedAt: 2025-10-10 17:41:36 -0400 (Fri, 10 Oct 2025) EllapsedTime: 29.8 seconds RetCode: 0 Status: OK PackageFile: ipdDb_1.27.0.tar.gz PackageFileSize: 21.05 KiB