Package: interactiveDisplay Version: 1.47.1 Command: /home/biocbuild/bbs-3.23-bioc/R/bin/R CMD check --install=check:interactiveDisplay.install-out.txt --library=/home/biocbuild/bbs-3.23-bioc/R/site-library --timings interactiveDisplay_1.47.1.tar.gz StartedAt: 2025-10-23 02:45:46 -0000 (Thu, 23 Oct 2025) EndedAt: 2025-10-23 02:45:51 -0000 (Thu, 23 Oct 2025) EllapsedTime: 5.0 seconds RetCode: 1 Status: ERROR CheckDir: interactiveDisplay.Rcheck Warnings: NA