Package: interacCircos Version: 1.19.0 Command: chmod a+r interacCircos -R && F:\biocbuild\bbs-3.22-bioc\R\bin\R.exe CMD build --keep-empty-dirs --no-resave-data interacCircos StartedAt: 2025-08-14 20:57:34 -0400 (Thu, 14 Aug 2025) EndedAt: 2025-08-14 20:58:04 -0400 (Thu, 14 Aug 2025) EllapsedTime: 29.8 seconds RetCode: 0 Status: OK PackageFile: interacCircos_1.19.0.tar.gz PackageFileSize: 711.7 KiB