Package: interacCircos Version: 1.19.0 Command: /home/biocbuild/bbs-3.22-bioc/R/bin/R CMD check --install=check:interacCircos.install-out.txt --library=/home/biocbuild/bbs-3.22-bioc/R/site-library --timings interacCircos_1.19.0.tar.gz StartedAt: 2025-10-10 00:59:55 -0400 (Fri, 10 Oct 2025) EndedAt: 2025-10-10 01:00:27 -0400 (Fri, 10 Oct 2025) EllapsedTime: 32.0 seconds RetCode: 0 Status: OK CheckDir: interacCircos.Rcheck Warnings: 0