Package: interacCircos Version: 1.21.0 Command: /home/biocbuild/bbs-3.23-bioc/R/bin/R CMD INSTALL interacCircos StartedAt: 2025-11-20 15:06:29 -0500 (Thu, 20 Nov 2025) EndedAt: 2025-11-20 15:07:07 -0500 (Thu, 20 Nov 2025) EllapsedTime: 37.5 seconds RetCode: 0 Status: OK