Package: intansv Version: 1.49.0 Command: /Library/Frameworks/R.framework/Resources/bin/R CMD INSTALL intansv StartedAt: 2025-10-13 15:47:14 -0400 (Mon, 13 Oct 2025) EndedAt: 2025-10-13 15:48:26 -0400 (Mon, 13 Oct 2025) EllapsedTime: 71.8 seconds RetCode: 0 Status: OK