Package: intansv Version: 1.49.0 Command: /Library/Frameworks/R.framework/Resources/bin/R CMD build --keep-empty-dirs --no-resave-data intansv StartedAt: 2025-10-13 17:42:18 -0400 (Mon, 13 Oct 2025) EndedAt: 2025-10-13 17:44:25 -0400 (Mon, 13 Oct 2025) EllapsedTime: 127.0 seconds RetCode: 0 Status: OK PackageFile: intansv_1.49.0.tar.gz PackageFileSize: 613 KiB