Package: intansv Version: 1.49.0 Command: rm -rf intansv.buildbin-libdir && mkdir intansv.buildbin-libdir && /Users/biocbuild/BBS/utils/build-universal.sh intansv_1.49.0.tar.gz /Library/Frameworks/R.framework/Resources/bin/R intansv.buildbin-libdir StartedAt: 2025-10-14 02:49:50 -0400 (Tue, 14 Oct 2025) EndedAt: 2025-10-14 02:51:06 -0400 (Tue, 14 Oct 2025) EllapsedTime: 76.0 seconds RetCode: 0 Status: OK PackageFile: intansv_1.49.0.tgz PackageFileSize: 708.9 KiB