Package: infinityFlow Version: 1.19.0 Command: /home/biocbuild/R/R/bin/R CMD INSTALL infinityFlow StartedAt: 2025-10-13 20:48:36 -0000 (Mon, 13 Oct 2025) EndedAt: 2025-10-13 20:49:12 -0000 (Mon, 13 Oct 2025) EllapsedTime: 36.1 seconds RetCode: 0 Status: OK