Package: infinityFlow Version: 1.19.0 Command: /home/biocbuild/R/R/bin/R CMD build --keep-empty-dirs --no-resave-data infinityFlow StartedAt: 2025-10-14 01:06:43 -0000 (Tue, 14 Oct 2025) EndedAt: 2025-10-14 01:10:54 -0000 (Tue, 14 Oct 2025) EllapsedTime: 251.1 seconds RetCode: 0 Status: OK PackageFile: infinityFlow_1.19.0.tar.gz PackageFileSize: 1.711 MiB