Package: infinityFlow Version: 1.19.0 Command: F:\biocbuild\bbs-3.22-bioc\R\bin\R.exe CMD INSTALL infinityFlow StartedAt: 2025-08-14 15:44:11 -0400 (Thu, 14 Aug 2025) EndedAt: 2025-08-14 15:44:58 -0400 (Thu, 14 Aug 2025) EllapsedTime: 46.4 seconds RetCode: 0 Status: OK