Package: infinityFlow Version: 1.19.0 Command: /home/biocbuild/bbs-3.22-bioc/R/bin/R CMD check --install=check:infinityFlow.install-out.txt --library=/home/biocbuild/bbs-3.22-bioc/R/site-library --timings infinityFlow_1.19.0.tar.gz StartedAt: 2025-10-10 00:58:40 -0400 (Fri, 10 Oct 2025) EndedAt: 2025-10-10 01:04:50 -0400 (Fri, 10 Oct 2025) EllapsedTime: 370.4 seconds RetCode: 0 Status: OK CheckDir: infinityFlow.Rcheck Warnings: 0