Package: infercnv Version: 1.26.0 Command: /home/biocbuild/bbs-3.22-bioc/R/bin/R CMD INSTALL infercnv StartedAt: 2025-10-29 21:36:12 -0400 (Wed, 29 Oct 2025) EndedAt: 2025-10-29 21:36:58 -0400 (Wed, 29 Oct 2025) EllapsedTime: 46.1 seconds RetCode: 0 Status: OK