Package: infercnv Version: 1.26.0 Command: /home/biocbuild/bbs-3.22-bioc/R/bin/R CMD build --keep-empty-dirs --no-resave-data --md5 infercnv StartedAt: 2025-10-30 00:34:33 -0400 (Thu, 30 Oct 2025) EndedAt: 2025-10-30 00:36:21 -0400 (Thu, 30 Oct 2025) EllapsedTime: 108.1 seconds RetCode: 0 Status: OK PackageFile: infercnv_1.26.0.tar.gz PackageFileSize: 3.945 MiB