Package: immunotation Version: 1.19.0 Command: /home/biocbuild/bbs-3.23-bioc/R/bin/R CMD INSTALL immunotation StartedAt: 2025-11-20 15:08:54 -0500 (Thu, 20 Nov 2025) EndedAt: 2025-11-20 15:10:08 -0500 (Thu, 20 Nov 2025) EllapsedTime: 73.9 seconds RetCode: 0 Status: OK