Package: immunotation Version: 1.19.0 Command: /home/biocbuild/bbs-3.23-bioc/R/bin/R CMD build --keep-empty-dirs --no-resave-data immunotation StartedAt: 2025-11-20 18:12:13 -0500 (Thu, 20 Nov 2025) EndedAt: 2025-11-20 18:15:13 -0500 (Thu, 20 Nov 2025) EllapsedTime: 180.2 seconds RetCode: 0 Status: OK PackageFile: immunotation_1.19.0.tar.gz PackageFileSize: 2.071 MiB