Package: immunotation Version: 1.17.5 Command: /Library/Frameworks/R.framework/Resources/bin/R CMD INSTALL immunotation StartedAt: 2025-10-22 15:11:52 -0400 (Wed, 22 Oct 2025) EndedAt: 2025-10-22 15:13:30 -0400 (Wed, 22 Oct 2025) EllapsedTime: 97.4 seconds RetCode: 0 Status: OK