Package: immunotation Version: 1.17.5 Command: /Library/Frameworks/R.framework/Resources/bin/R CMD build --keep-empty-dirs --no-resave-data immunotation StartedAt: 2025-10-22 17:22:32 -0400 (Wed, 22 Oct 2025) EndedAt: 2025-10-22 17:30:24 -0400 (Wed, 22 Oct 2025) EllapsedTime: 471.5 seconds RetCode: 0 Status: OK PackageFile: immunotation_1.17.5.tar.gz PackageFileSize: 2.222 MiB