Package: immunotation Version: 1.17.5 Command: /Library/Frameworks/R.framework/Resources/bin/R CMD INSTALL immunotation StartedAt: 2025-10-03 15:05:33 -0400 (Fri, 03 Oct 2025) EndedAt: 2025-10-03 15:06:07 -0400 (Fri, 03 Oct 2025) EllapsedTime: 34.2 seconds RetCode: 0 Status: OK